BEGIN:VCALENDAR
VERSION:2.0
PRODID:-//Sioux Falls Events - ECPv6.15.18//NONSGML v1.0//EN
CALSCALE:GREGORIAN
METHOD:PUBLISH
X-ORIGINAL-URL:https://siouxfallsevents.com
X-WR-CALDESC:Events for Sioux Falls Events
REFRESH-INTERVAL;VALUE=DURATION:PT1H
X-Robots-Tag:noindex
X-PUBLISHED-TTL:PT1H
BEGIN:VTIMEZONE
TZID:America/Chicago
BEGIN:DAYLIGHT
TZOFFSETFROM:-0600
TZOFFSETTO:-0500
TZNAME:CDT
DTSTART:20250309T080000
END:DAYLIGHT
BEGIN:STANDARD
TZOFFSETFROM:-0500
TZOFFSETTO:-0600
TZNAME:CST
DTSTART:20251102T070000
END:STANDARD
BEGIN:DAYLIGHT
TZOFFSETFROM:-0600
TZOFFSETTO:-0500
TZNAME:CDT
DTSTART:20260308T080000
END:DAYLIGHT
BEGIN:STANDARD
TZOFFSETFROM:-0500
TZOFFSETTO:-0600
TZNAME:CST
DTSTART:20261101T070000
END:STANDARD
BEGIN:DAYLIGHT
TZOFFSETFROM:-0600
TZOFFSETTO:-0500
TZNAME:CDT
DTSTART:20270314T080000
END:DAYLIGHT
BEGIN:STANDARD
TZOFFSETFROM:-0500
TZOFFSETTO:-0600
TZNAME:CST
DTSTART:20271107T070000
END:STANDARD
END:VTIMEZONE
BEGIN:VEVENT
DTSTART;TZID=America/Chicago:20260429T190000
DTEND;TZID=America/Chicago:20260429T203000
DTSTAMP:20260421T144314
CREATED:20260415T180119Z
LAST-MODIFIED:20260415T180119Z
UID:10012722-1777489200-1777494600@siouxfallsevents.com
SUMMARY:Levitt Music Maker Mixer
DESCRIPTION:Presented in partnership with the South Dakota Music Therapy Association\, this session offers a real-world look at how music can support healing\, wellbeing\, and community impact. Music therapists Ellyn Donahoe\, Rebecca Jennings-Boyer\, and Kari Hanson will share about their respective journeys into music therapy\, what it takes to get started\, and how this work shows up locally—from full-time careers to opportunities for independent artists. Built for working musicians and students\, the session wraps with a live\, interactive demo—step in and experience music therapy in action. \nHere’s the breakdown of the evening: \n7 p.m. – 7:20 p.m. — Social Time with treats and live music by Link West\n7:20 p.m. – 8:15 p.m. — Presentation and Q&A\nDon’t miss this FREE opportunity to learn and connect with fellow music makers!
URL:https://siouxfallsevents.com/event/levitt-music-maker-mixer/
LOCATION:Startup Sioux Falls
CATEGORIES:Music,Networking
ATTACH;FMTTYPE=image/jpeg:https://siouxfallsevents.com/wp-content/uploads/2026/04/1920x1080-Image.jpg
ORGANIZER;CN="Levitt at the Falls":MAILTO:info@levittsiouxfalls.org
END:VEVENT
BEGIN:VEVENT
DTSTART;TZID=America/Chicago:20260503T140000
DTEND;TZID=America/Chicago:20260503T150000
DTSTAMP:20260421T144314
CREATED:20260420T203515Z
LAST-MODIFIED:20260420T203515Z
UID:10012743-1777816800-1777820400@siouxfallsevents.com
SUMMARY:SculptureWalk: Sculpture Talks
DESCRIPTION:SculptureWalk: Sculpture Talks\nSunday\, May 3 2:00 to 3:00pm\nMarketBeat Theater\nat StartUp Sioux Falls \nArtist Features:\nLuke Achterberg from La Crosse\, WI\nNathan Johansen from Provo\, Utah\nSunghee Min from Roseville\, MN \nAbout Luke Achterberg:\nLuke Achterberg explores the subcultures of Americana found in automotive customizing\, style writing\, graffiti\, comics\, snow/skateboarding and street art—all of which display extremely high technical skills developed outside of academia.\nWorking to overturn the standardization of mass production\, he is continually playing with balance\, both physical and aesthetic\, to create a pronounced visual sleekness.\nLuke received his undergraduate degree at the University of Wisconsin-La Crosse in 2004\, then obtained a Welding Technical Diploma from Western Technical College in La Crosse the following year. After spending time as a certified welder at a custom job shop\, he attended graduate school at the University of Kentucky\, completing his Master of Fine Art.\nLuke has received many prestigious awards from institutions such as the International Sculpture Center in New Jersey\, and Art-St-Urban in Switzerland.\nHe currently lives and works in La Crosse\, WI. \nAbout Nathan Johansen:\nNathan Johansen looks to nature for the forms he uses in his work. Plants with their seeds\, in all their various stages of development\, are rich in symbols and patterns that repeat in all life. His deep sensitivity to the natural world is embodied in his depictions of the cycles of plants and seeds\, birds\, insects and all of their relationship to mankind.\nA lifelong resident of Utah\, Nathan graduated with a BA in Fine Art from Brigham Young University. Nate has worked in the Art Casting field for over 36 years\, coordinating Fine Art Casting at Metal Arts Foundry in Lehi\, Utah. He is now working as Johansen Studios\, producing his own art full time. \nAbout Sunghee Min:\nSunghee Min is a public artist based in Roseville\, Minnesota. Originally from rural South Korea\, she studied sculpture and installation art at the Academy of Art University in San Francisco. Since relocating to Minnesota in 2016\, Min has focused on creating outdoor public sculptures that engage diverse audiences throughout the Midwest.\nWorking primarily with metal—especially manufactured steel sheets\, bars\, and structural forms—her sculptures explore geometric shapes such as triangles and squares. These simple\, universal forms reflect Min’s interest in the relationships between structure\, nature\, and community. Her work is driven by the potential of public art to transcend individual experience and resonate with a broad public in shared spaces.\nMin’s sculptures have been exhibited widely in outdoor sculpture walks and exhibitions across Minnesota\, South Dakota\, Iowa\, Wisconsin\, Nebraska\, and Illinois. She has received several awards and grants\, including the 2024–2025 Artists’ Future Grant from the Metropolitan Regional Arts Council and the 2024 Creative Support for Individuals Grant from the Minnesota State Arts Board. Her public commissions include works for the City of Madison\, Wisconsin; the City of Rochester\, Minnesota; and Silverwood Park Sculpture Trail in Saint Anthony\, Minnesota.\nThrough her work\, Sunghee Min continues to explore themes of connectivity\, simplicity\, and the power of geometric form to invite reflection and dialogue in public space.
URL:https://siouxfallsevents.com/event/sculpturewalk-sculpture-talks/
LOCATION:Startup Sioux Falls
ATTACH;FMTTYPE=image/jpeg:https://siouxfallsevents.com/wp-content/uploads/2026/04/EventImage.jpg
ORGANIZER;CN="The Watering Can":MAILTO:claudia@thewateringcan.org
END:VEVENT
END:VCALENDAR