BEGIN:VCALENDAR
VERSION:2.0
PRODID:-//Sioux Falls Events - ECPv6.15.18//NONSGML v1.0//EN
CALSCALE:GREGORIAN
METHOD:PUBLISH
X-WR-CALNAME:Sioux Falls Events
X-ORIGINAL-URL:https://siouxfallsevents.com
X-WR-CALDESC:Events for Sioux Falls Events
REFRESH-INTERVAL;VALUE=DURATION:PT1H
X-Robots-Tag:noindex
X-PUBLISHED-TTL:PT1H
BEGIN:VTIMEZONE
TZID:America/Chicago
BEGIN:DAYLIGHT
TZOFFSETFROM:-0600
TZOFFSETTO:-0500
TZNAME:CDT
DTSTART:20250309T080000
END:DAYLIGHT
BEGIN:STANDARD
TZOFFSETFROM:-0500
TZOFFSETTO:-0600
TZNAME:CST
DTSTART:20251102T070000
END:STANDARD
BEGIN:DAYLIGHT
TZOFFSETFROM:-0600
TZOFFSETTO:-0500
TZNAME:CDT
DTSTART:20260308T080000
END:DAYLIGHT
BEGIN:STANDARD
TZOFFSETFROM:-0500
TZOFFSETTO:-0600
TZNAME:CST
DTSTART:20261101T070000
END:STANDARD
BEGIN:DAYLIGHT
TZOFFSETFROM:-0600
TZOFFSETTO:-0500
TZNAME:CDT
DTSTART:20270314T080000
END:DAYLIGHT
BEGIN:STANDARD
TZOFFSETFROM:-0500
TZOFFSETTO:-0600
TZNAME:CST
DTSTART:20271107T070000
END:STANDARD
END:VTIMEZONE
BEGIN:VEVENT
DTSTART;TZID=America/Chicago:20260331T093000
DTEND;TZID=America/Chicago:20260331T103000
DTSTAMP:20260421T144349
CREATED:20260323T132449Z
LAST-MODIFIED:20260323T132449Z
UID:10012619-1774949400-1774953000@siouxfallsevents.com
SUMMARY:Jaunt Downtown Mobility Workshop
DESCRIPTION:As a first-of-its-kind community mobility system\, Jaunt continues to pioneer local economic connectivity. We are hosting a short workshop for downtown businesses\, employers\, and community organizations to explore how shared ebikes can increase customer traffic and improve access across downtown Sioux Falls.\nThis session will include:\nInsights on how thousands of Jaunt Riders promoted sustainability\, physical\, mental\, and economic health for Sioux Falls in 2025\nEmployee commuting options for downtown offices\nCommunity ride partnerships for events and organizations\nDirect customer traffic for businesses\nA preview of the upcoming Downtown Sioux Falls Mobility Pilot\nRSVP for a Teams Meeting Link if you can’t make it in person!
URL:https://siouxfallsevents.com/event/jaunt-downtown-mobility-workshop/
LOCATION:Startup Sioux Falls
CATEGORIES:Education and Professional Development,Personal Education
ATTACH;FMTTYPE=image/jpeg:https://siouxfallsevents.com/wp-content/uploads/2026/03/XhSHwzpzfkG5x3Fq2eb6wg.large_.jpg
ORGANIZER;CN="Jaunt Micro Mobility":MAILTO:info@electricjaunt.com
END:VEVENT
BEGIN:VEVENT
DTSTART;TZID=America/Chicago:20260225T190000
DTEND;TZID=America/Chicago:20260225T201500
DTSTAMP:20260421T144349
CREATED:20260210T182653Z
LAST-MODIFIED:20260210T182653Z
UID:10009517-1772046000-1772050500@siouxfallsevents.com
SUMMARY:Music Maker Mixer: Building Your Audience
DESCRIPTION:Explore how artists across genres and generations build loyal audiences and sustainable careers in today’s evolving music landscape. This Music Maker Mixer features a dynamic\, multi-genre panel of three artists at different stages of their journeys — including Brian Bonde of East of Westerville\, a veteran regional performer and creative leader; Allen Goodroad of Goodroad\, a seasoned bandleader who has built one of the area’s most successful live entertainment acts over the past two decades; and Etta McKinley an emerging jazz and musical theatre professional known for growing her audience through social media and cross-genre connections. \nGuided by Vaney Hariri of Think 3D am experienced facilitator\, hip-hop musician\, and respected voice in the culture-building and personal development space\, this interactive Q&A will offer real-world insights\, honest stories\, and practical strategies attendees can apply to their own artistic paths — while connecting with the local creative community. \nHere’s the breakdown of the evening:\n7 p.m. – 7:20 p.m. — Social Time with treats and live music\n7:20 p.m. – 8:15 p.m. — Presentation and Q&A \nDon’t miss this opportunity to learn and connect with fellow music makers!
URL:https://siouxfallsevents.com/event/music-maker-mixer-building-your-audience/
LOCATION:Startup Sioux Falls
CATEGORIES:Fine Arts,Networking
ATTACH;FMTTYPE=image/jpeg:https://siouxfallsevents.com/wp-content/uploads/2026/02/1920x1080-Image.jpg
ORGANIZER;CN="Levitt at the Falls":MAILTO:info@levittsiouxfalls.org
END:VEVENT
END:VCALENDAR