BEGIN:VCALENDAR
VERSION:2.0
PRODID:-//Sioux Falls Events - ECPv6.15.18//NONSGML v1.0//EN
CALSCALE:GREGORIAN
METHOD:PUBLISH
X-WR-CALNAME:Sioux Falls Events
X-ORIGINAL-URL:https://siouxfallsevents.com
X-WR-CALDESC:Events for Sioux Falls Events
REFRESH-INTERVAL;VALUE=DURATION:PT1H
X-Robots-Tag:noindex
X-PUBLISHED-TTL:PT1H
BEGIN:VTIMEZONE
TZID:America/Chicago
BEGIN:DAYLIGHT
TZOFFSETFROM:-0600
TZOFFSETTO:-0500
TZNAME:CDT
DTSTART:20250309T080000
END:DAYLIGHT
BEGIN:STANDARD
TZOFFSETFROM:-0500
TZOFFSETTO:-0600
TZNAME:CST
DTSTART:20251102T070000
END:STANDARD
BEGIN:DAYLIGHT
TZOFFSETFROM:-0600
TZOFFSETTO:-0500
TZNAME:CDT
DTSTART:20260308T080000
END:DAYLIGHT
BEGIN:STANDARD
TZOFFSETFROM:-0500
TZOFFSETTO:-0600
TZNAME:CST
DTSTART:20261101T070000
END:STANDARD
BEGIN:DAYLIGHT
TZOFFSETFROM:-0600
TZOFFSETTO:-0500
TZNAME:CDT
DTSTART:20270314T080000
END:DAYLIGHT
BEGIN:STANDARD
TZOFFSETFROM:-0500
TZOFFSETTO:-0600
TZNAME:CST
DTSTART:20271107T070000
END:STANDARD
END:VTIMEZONE
BEGIN:VEVENT
DTSTART;TZID=America/Chicago:20260421T163000
DTEND;TZID=America/Chicago:20260421T173000
DTSTAMP:20260424T063252
CREATED:20260317T020824Z
LAST-MODIFIED:20260317T020824Z
UID:10012615-1776789000-1776792600@siouxfallsevents.com
SUMMARY:Meet a Researcher by the American Cancer Society and Sanford Research
DESCRIPTION:The American Cancer Society and Sanford Research have partnered to host another “Meet a Researcher Event”. \nWe invite you to join us for a discussion on early detection and cancer screening. This session will feature insights from our panelists Dr. Jonathan Bleeker\, Dr. Cassie Hajek\, Dr. Maria Bell and Dr. Kevin Byrd. \nPlease rsvp by 4/15/26: https://bit.ly/46SNNWk
URL:https://siouxfallsevents.com/event/meet-a-researcher-by-the-american-cancer-society-and-sanford-research/
LOCATION:Edith Sanford Cancer Center\, 1210 W. 18th Street\, Sioux Falls\, 57104\, United States
CATEGORIES:Health and Wellness,Personal Education
ATTACH;FMTTYPE=image/png:https://siouxfallsevents.com/wp-content/uploads/2026/03/April-2026_Meet-a-Researcher-Event-FB-Event-4-1.png
END:VEVENT
END:VCALENDAR