BEGIN:VCALENDAR
VERSION:2.0
PRODID:-//Sioux Falls Events - ECPv6.15.18//NONSGML v1.0//EN
CALSCALE:GREGORIAN
METHOD:PUBLISH
X-ORIGINAL-URL:https://siouxfallsevents.com
X-WR-CALDESC:Events for Sioux Falls Events
REFRESH-INTERVAL;VALUE=DURATION:PT1H
X-Robots-Tag:noindex
X-PUBLISHED-TTL:PT1H
BEGIN:VTIMEZONE
TZID:America/Chicago
BEGIN:DAYLIGHT
TZOFFSETFROM:-0600
TZOFFSETTO:-0500
TZNAME:CDT
DTSTART:20250309T080000
END:DAYLIGHT
BEGIN:STANDARD
TZOFFSETFROM:-0500
TZOFFSETTO:-0600
TZNAME:CST
DTSTART:20251102T070000
END:STANDARD
BEGIN:DAYLIGHT
TZOFFSETFROM:-0600
TZOFFSETTO:-0500
TZNAME:CDT
DTSTART:20260308T080000
END:DAYLIGHT
BEGIN:STANDARD
TZOFFSETFROM:-0500
TZOFFSETTO:-0600
TZNAME:CST
DTSTART:20261101T070000
END:STANDARD
BEGIN:DAYLIGHT
TZOFFSETFROM:-0600
TZOFFSETTO:-0500
TZNAME:CDT
DTSTART:20270314T080000
END:DAYLIGHT
BEGIN:STANDARD
TZOFFSETFROM:-0500
TZOFFSETTO:-0600
TZNAME:CST
DTSTART:20271107T070000
END:STANDARD
END:VTIMEZONE
BEGIN:VEVENT
DTSTART;TZID=America/Chicago:20260207T133000
DTEND;TZID=America/Chicago:20260207T163000
DTSTAMP:20260423T085355
CREATED:20260112T141810Z
LAST-MODIFIED:20260112T141810Z
UID:10009354-1770471000-1770481800@siouxfallsevents.com
SUMMARY:GALENTINE'S DAY Pop-Up Event
DESCRIPTION:Grab your girls and treat yourself to an afternoon of shopping\, socializing\, and self-care! This GALENTINE’S-inspired pop up is filled with dozens of amazing woman-owned\, local vendors and all of the things ladies love – luxury ear piercings\, facials\, lash lifts\, beauty products\, specialty coffee\, customized hats\, gifts\, boutique shopping\, clothes\, and much more! It’s the perfect chance to shop small\, relax\, and enjoy a little “me time” (or “we time”) with your favorite people. Bonus for mamas – onsite $5 child care will be available from All American Gymnastics\, so you can browse and unwind stress-free while your little ones play. BE SURE TO SHARE THIS EVENT AND BRING YOUR GIRLS!
URL:https://siouxfallsevents.com/event/galentines-day-pop-up-event/
LOCATION:All American Gymnastics Academy\, 7321 S Grasslands Pl\, Sioux Falls\, SD\, 57108\, United States
CATEGORIES:Expos and Markets
ATTACH;FMTTYPE=image/jpeg:https://siouxfallsevents.com/wp-content/uploads/2026/01/IMG_1640.jpeg
ORGANIZER;CN="Rachel Lemons":MAILTO:racheljlemons@gmail.com
END:VEVENT
END:VCALENDAR