BEGIN:VCALENDAR
VERSION:2.0
PRODID:-//Sioux Falls Events - ECPv6.15.18//NONSGML v1.0//EN
CALSCALE:GREGORIAN
METHOD:PUBLISH
X-ORIGINAL-URL:https://siouxfallsevents.com
X-WR-CALDESC:Events for Sioux Falls Events
REFRESH-INTERVAL;VALUE=DURATION:PT1H
X-Robots-Tag:noindex
X-PUBLISHED-TTL:PT1H
BEGIN:VTIMEZONE
TZID:America/Chicago
BEGIN:DAYLIGHT
TZOFFSETFROM:-0600
TZOFFSETTO:-0500
TZNAME:CDT
DTSTART:20250309T080000
END:DAYLIGHT
BEGIN:STANDARD
TZOFFSETFROM:-0500
TZOFFSETTO:-0600
TZNAME:CST
DTSTART:20251102T070000
END:STANDARD
BEGIN:DAYLIGHT
TZOFFSETFROM:-0600
TZOFFSETTO:-0500
TZNAME:CDT
DTSTART:20260308T080000
END:DAYLIGHT
BEGIN:STANDARD
TZOFFSETFROM:-0500
TZOFFSETTO:-0600
TZNAME:CST
DTSTART:20261101T070000
END:STANDARD
BEGIN:DAYLIGHT
TZOFFSETFROM:-0600
TZOFFSETTO:-0500
TZNAME:CDT
DTSTART:20270314T080000
END:DAYLIGHT
BEGIN:STANDARD
TZOFFSETFROM:-0500
TZOFFSETTO:-0600
TZNAME:CST
DTSTART:20271107T070000
END:STANDARD
END:VTIMEZONE
BEGIN:VEVENT
DTSTART;TZID=America/Chicago:20260425T130000
DTEND;TZID=America/Chicago:20260425T143000
DTSTAMP:20260421T110247
CREATED:20260408T163047Z
LAST-MODIFIED:20260408T163047Z
UID:10012706-1777122000-1777127400@siouxfallsevents.com
SUMMARY:April Cupcake & Painting Time
DESCRIPTION:A sweet\, creative event for kids and adults! Stop by the studio and enjoy a delicious cupcake while you paint whatever inspires you on an 8×8 canvas—flowers\, animals\, designs or maybe even a cupcake masterpiece of your own. \n🖌 Paint in the shop: $12 per painter\n🎨 To-Go Canvas Kits: $15 each (limited availability)\n📅 Saturday\, April 25th\n⏰ 1:00pm – 2:30pm OR 2:30pm – 4pm\n📍 Oh My Cupcakes at the Bridges off 57th & Western \nThis is a relaxed\, open-paint style event—come anytime during the event window and create at your own pace. Registration is required\, and if our event is full walk-ins may not be available. This is so we can be sure to have enough canvases and painting spots ready for everyone. \nYou purchase the cupcakes to enjoy\, and we’ll provide all of the painting essentials! \nCupcakes\, creativity\, and paint time—come treat yourself (and your inner artist)! \nPainters must register at https://www.hisawyer.com/the-wildflower-den/schedules/activity-set/1796460
URL:https://siouxfallsevents.com/event/april-cupcake-painting-time/
LOCATION:Oh My Cupcakes\, 5015 S. Western Ave.\, Suite 290\, Sioux Falls\, 57108\, United States
CATEGORIES:Fine Arts
ATTACH;FMTTYPE=image/png:https://siouxfallsevents.com/wp-content/uploads/2026/04/cupcake-painting-time_orig.png
ORGANIZER;CN="The Wildflower Den LLC":MAILTO:thewildflowerden605@gmail.com
END:VEVENT
BEGIN:VEVENT
DTSTART;TZID=America/Chicago:20260425T143000
DTEND;TZID=America/Chicago:20260425T160000
DTSTAMP:20260421T110247
CREATED:20260408T163125Z
LAST-MODIFIED:20260408T163125Z
UID:10012707-1777127400-1777132800@siouxfallsevents.com
SUMMARY:April Cupcake & Painting Time
DESCRIPTION:A sweet\, creative event for kids and adults! Stop by the studio and enjoy a delicious cupcake while you paint whatever inspires you on an 8×8 canvas—flowers\, animals\, designs or maybe even a cupcake masterpiece of your own. \n🖌 Paint in the shop: $12 per painter\n🎨 To-Go Canvas Kits: $15 each (limited availability)\n📅 Saturday\, April 25th\n⏰ 1:00pm – 2:30pm OR 2:30pm – 4pm\n📍 Oh My Cupcakes at the Bridges off 57th & Western \nThis is a relaxed\, open-paint style event—come anytime during the event window and create at your own pace. Registration is required\, and if our event is full walk-ins may not be available. This is so we can be sure to have enough canvases and painting spots ready for everyone. \nYou purchase the cupcakes to enjoy\, and we’ll provide all of the painting essentials! \nCupcakes\, creativity\, and paint time—come treat yourself (and your inner artist)! \nParticipants must register: https://www.hisawyer.com/the-wildflower-den/schedules/activity-set/1796462
URL:https://siouxfallsevents.com/event/april-cupcake-painting-time-2/
LOCATION:Oh My Cupcakes\, 5015 S. Western Ave.\, Suite 290\, Sioux Falls\, 57108\, United States
CATEGORIES:Fine Arts
ATTACH;FMTTYPE=image/png:https://siouxfallsevents.com/wp-content/uploads/2026/04/cupcake-painting-time_orig-1.png
ORGANIZER;CN="The Wildflower Den LLC":MAILTO:thewildflowerden605@gmail.com
END:VEVENT
BEGIN:VEVENT
DTSTART;TZID=America/Chicago:20260501T180000
DTEND;TZID=America/Chicago:20260501T200000
DTSTAMP:20260421T110247
CREATED:20260408T163145Z
LAST-MODIFIED:20260408T163145Z
UID:10012708-1777658400-1777665600@siouxfallsevents.com
SUMMARY:Craft for a Cause: A Fundraiser for Almost Home Canine Rescue
DESCRIPTION:Calling all dog lovers! Join us for a fun and meaningful evening as we craft for a cause. At this special event\, participants will paint a beautiful “Home Sweet Home” wooden sign—perfect for anyone who loves welcoming both people and pups into their home. \nThis event is a fundraiser for Almost Home Canine Rescue\, helping support their mission of caring for dogs in need while they wait for their forever families. \nEvent Details:\n📅 Friday\, May 1\n⏰ 6:00–8:00 PM (Doors open at 5:30 PM)\nLocation: Titan’s Tavern Event Hall in Tea\, SD \nDuring the event\, you will be able to:\nPaint your own Home Sweet Home wooden sign\nMeet some of the adorable dogs currently looking for their forever home\nShop from our DIY To-Go Craft Kits\nSpend time petting and loving on the pups 🐶 \nA portion of every ticket sold will be donated directly to Almost Home Canine Rescue to help cover veterinary bills\, supplies\, and everyday care for the dogs. \nWe also welcome and appreciate donations of dog food\, dog toys\, treats\, or other new dog supplies to help support the rescue. \nNot feeling crafty? That’s okay! You’re still invited to stop by\, meet the dogs\, shop our craft kits\, and show your support for the incredible work Almost Home Canine Rescue does for dogs in need. \nCome craft\, cuddle some pups\, and help make a difference—because every dog deserves a place to call Home Sweet Home. 🐾❤️ \nParticipants Must register: https://www.hisawyer.com/the-wildflower-den/schedules/activity-set/1840011
URL:https://siouxfallsevents.com/event/craft-for-a-cause-a-fundraiser-for-almost-home-canine-rescue/
LOCATION:Titan’s Tavern\, 215 S. Main Ave\, Suite B\, Tea\, 57064\, United States
CATEGORIES:Benefits and Charity Events
ATTACH;FMTTYPE=image/png:https://siouxfallsevents.com/wp-content/uploads/2026/04/Craft-for-a-Cause.png
ORGANIZER;CN="The Wildflower Den LLC":MAILTO:thewildflowerden605@gmail.com
END:VEVENT
END:VCALENDAR